BEGIN:VCALENDAR
VERSION:2.0
PRODID:icalendar-ruby
CALSCALE:GREGORIAN
METHOD:PUBLISH
BEGIN:VEVENT
DTSTAMP:20260421T191500Z
UID:38-319264@hopercus.com
DTSTART:20261025T143000Z
DTEND:20261025T153000Z
CLASS:PUBLIC
CREATED:20260421T141438
DESCRIPTION:
LAST-MODIFIED:20260421T141438
LOCATION:Hope Reformed Church
SUMMARY:Worship
URL;VALUE=URI:https://www.hopercus.com/events/worship/2026-10-25
ATTACH;FILENAME=att.pG3oFIbL4p6sIjNrRKzFTP1VSOu3NtkUrpHYMhrWkJg.jpeg;FMTTYP
 E=image/jpeg:https://dq5pwpg1q8ru0.cloudfront.net/2025/07/08/02/00/08/0e1e
 6f4c-fc2f-44ce-a2b0-84ce9e96586e/att.pG3oFIbL4p6sIjNrRKzFTP1VSOu3NtkUrpHYM
 hrWkJg.jpeg
END:VEVENT
END:VCALENDAR
